BEGIN:VCALENDAR
VERSION:2.0
PRODID:-//League of Women Voters - ECPv6.15.20//NONSGML v1.0//EN
CALSCALE:GREGORIAN
METHOD:PUBLISH
X-ORIGINAL-URL:https://lwvlaplata.org
X-WR-CALDESC:Events for League of Women Voters
REFRESH-INTERVAL;VALUE=DURATION:PT1H
X-Robots-Tag:noindex
X-PUBLISHED-TTL:PT1H
BEGIN:VTIMEZONE
TZID:America/Denver
BEGIN:DAYLIGHT
TZOFFSETFROM:-0700
TZOFFSETTO:-0600
TZNAME:MDT
DTSTART:20250309T090000
END:DAYLIGHT
BEGIN:STANDARD
TZOFFSETFROM:-0600
TZOFFSETTO:-0700
TZNAME:MST
DTSTART:20251102T080000
END:STANDARD
BEGIN:DAYLIGHT
TZOFFSETFROM:-0700
TZOFFSETTO:-0600
TZNAME:MDT
DTSTART:20260308T090000
END:DAYLIGHT
BEGIN:STANDARD
TZOFFSETFROM:-0600
TZOFFSETTO:-0700
TZNAME:MST
DTSTART:20261101T080000
END:STANDARD
BEGIN:DAYLIGHT
TZOFFSETFROM:-0700
TZOFFSETTO:-0600
TZNAME:MDT
DTSTART:20270314T090000
END:DAYLIGHT
BEGIN:STANDARD
TZOFFSETFROM:-0600
TZOFFSETTO:-0700
TZNAME:MST
DTSTART:20271107T080000
END:STANDARD
END:VTIMEZONE
BEGIN:VEVENT
DTSTART;TZID=America/Denver:20260210T150000
DTEND;TZID=America/Denver:20260210T160000
DTSTAMP:20260425T093853
CREATED:20260207T000719Z
LAST-MODIFIED:20260207T000719Z
UID:249073-1770735600-1770739200@lwvlaplata.org
SUMMARY:Membership Committee
DESCRIPTION:The Membership Committee meets on the second Tuesday of each month (02/10) from 3-4pm at the Durango Joes https://durangojoes.com/ on College Drive. We welcome all new and returning members to the League\, conduct the Orientation meetings\, organize both the Annual meeting and the Holiday meetings. We are currently looking for more members to join our committee.
URL:https://lwvlaplata.org/event/membership-committee/
LOCATION:Durango Joes on College\, 732 E College Dr\, Durango\, CO\, 81301\, United States
CATEGORIES:Membership Meeting
END:VEVENT
BEGIN:VEVENT
DTSTART;TZID=America/Denver:20260216T103000
DTEND;TZID=America/Denver:20260216T113000
DTSTAMP:20260425T093853
CREATED:20260211T220456Z
LAST-MODIFIED:20260211T220648Z
UID:249082-1771237800-1771241400@lwvlaplata.org
SUMMARY:Book Club
DESCRIPTION:Feb 16 – Everyone Who Is Gone Is Here by Jonathan Blitzer. The author documents the causes of the immigration crisis and the decades of misguided policy. \n \nThe LWV La Plata Book Club meets the third Monday of every month at 10:30 at Durango Joes on College. \n\nAll are welcome to attend to check us out\, but we ask that you join the League if you want to keep coming.\nPlease park on the side streets.
URL:https://lwvlaplata.org/event/book-club/
LOCATION:Durango Joes on College\, 732 E College Dr\, Durango\, CO\, 81301\, United States
END:VEVENT
BEGIN:VEVENT
DTSTART;TZID=America/Denver:20260221T101500
DTEND;TZID=America/Denver:20260221T120000
DTSTAMP:20260425T093853
CREATED:20260211T223550Z
LAST-MODIFIED:20260219T193116Z
UID:249099-1771668900-1771675200@lwvlaplata.org
SUMMARY:US Immigration 2026:  Pathways\, Costs & Policy Shifts
DESCRIPTION:LWV Montezuma County will be hosting Hans Meyer\, an immigration attorney from Denver on Zoom February 21st at 10:15 a.m. at the Cortez Library\, 202 North Park Street.  There is also a Zoom Link available. \n 
URL:https://lwvlaplata.org/event/us-immigration-2026-pathways-costs-policy-shifts/
LOCATION:Cortez Public Library\, 202 North Park Street\, Cortez\, CO\, 81321\, United States
ATTACH;FMTTYPE=image/jpeg:https://lwvlaplata.org/wp-content/uploads/2026/02/2026.02.21_Hans-Meyer-Immigration-Rev4-01-1-1.jpg
END:VEVENT
BEGIN:VEVENT
DTSTART;TZID=America/Denver:20260310T150000
DTEND;TZID=America/Denver:20260310T160000
DTSTAMP:20260425T093853
CREATED:20260211T230127Z
LAST-MODIFIED:20260211T230127Z
UID:249108-1773154800-1773158400@lwvlaplata.org
SUMMARY:Voter Services
DESCRIPTION:Tuesday March 10\, 3-4pm at Durango Joes on College \nThe Voter Services Committee meets on the second Tuesday of each month.  Come see what the hands-on work of the LWV La Plata is!  As you can see\, we have lots going on and could use help with a variety of activities.
URL:https://lwvlaplata.org/event/voter-services/
LOCATION:Durango Joes on College\, 732 E College Dr\, Durango\, CO\, 81301\, United States
END:VEVENT
BEGIN:VEVENT
DTSTART;TZID=America/Denver:20260316T103000
DTEND;TZID=America/Denver:20260316T113000
DTSTAMP:20260425T093853
CREATED:20260211T221215Z
LAST-MODIFIED:20260211T221215Z
UID:249085-1773657000-1773660600@lwvlaplata.org
SUMMARY:Book Club
DESCRIPTION:March 16 – The 1619 Project: A Visual Experience by Nikole Hannah-Jones. This illustrated book features 7 chapters from the original book featuring artwork supporting an argument for a new black origin story that begins with the arrival of slaves in August of 1619. Trump banned the book during his first term. The 1619 Project is also a six part docuseries created for Hulu. \n \nThe LWV La Plata Book Club meets the third Monday of every month at 10:30 at Durango Joes on College. \n\nAll are welcome to attend to check us out\, but we ask that you join the League if you want to keep coming.\nPlease park on the side streets.
URL:https://lwvlaplata.org/event/book-club-2/
LOCATION:Durango Joes on College\, 732 E College Dr\, Durango\, CO\, 81301\, United States
END:VEVENT
BEGIN:VEVENT
DTSTART;TZID=America/Denver:20260328T133000
DTEND;TZID=America/Denver:20260328T160000
DTSTAMP:20260425T093853
CREATED:20260328T171551Z
LAST-MODIFIED:20260328T173410Z
UID:249147-1774704600-1774713600@lwvlaplata.org
SUMMARY:No Kings 3
DESCRIPTION:
URL:https://lwvlaplata.org/event/no-kings-3/
LOCATION:Buckley Park\, 1250 Main Ave\, Durango\, CO\, 81301\, United States
CATEGORIES:Community Event
ATTACH;FMTTYPE=image/jpeg:https://lwvlaplata.org/wp-content/uploads/2026/03/Screenshot-2026-03-26-105149.jpg
END:VEVENT
BEGIN:VEVENT
DTSTART;TZID=America/Denver:20260331T150000
DTEND;TZID=America/Denver:20260331T153000
DTSTAMP:20260425T093853
CREATED:20260328T172549Z
LAST-MODIFIED:20260328T172549Z
UID:249156-1774969200-1774971000@lwvlaplata.org
SUMMARY:Tabling & Voter Registration Training
DESCRIPTION:Tabling & Voter Registration Training\nFarmers Market 2nd Saturdays – \nWe’ll be doing tabling all summer long. Even if you aren’t signed up to work the Farmer’s Market\, but feel this is something you’d be interested in or willing to do in the future\, please come to the training on Tuesday\, March 31\, 3 – 3:30pm\, at the Durango Joe’s on College Drive.
URL:https://lwvlaplata.org/event/tabling-voter-registration-training/
LOCATION:Durango Joes on College\, 732 E College Dr\, Durango\, CO\, 81301\, United States
CATEGORIES:Membership Meeting
ATTACH;FMTTYPE=image/jpeg:https://lwvlaplata.org/wp-content/uploads/2026/03/16.jpg
END:VEVENT
BEGIN:VEVENT
DTSTART;TZID=America/Denver:20260402T150000
DTEND;TZID=America/Denver:20260402T170000
DTSTAMP:20260425T093853
CREATED:20260328T172138Z
LAST-MODIFIED:20260328T172817Z
UID:249154-1775142000-1775149200@lwvlaplata.org
SUMMARY:Membership Orientation
DESCRIPTION:If you’ve never had the opportunity to see behind the scenes at how our LaPlata County votes are handled\, this is a fabulous opportunity to get first hand knowledge about the safety and security of our system.  Bring a buddy who needs to see and be a part of the collective anxiety-free voting public.
URL:https://lwvlaplata.org/event/membership-orientation/
LOCATION:Bob Denier Center\, 720 Turner Drive\, Durango\, CO\, 81303\, United States
CATEGORIES:Membership Meeting
ATTACH;FMTTYPE=image/jpeg:https://lwvlaplata.org/wp-content/uploads/2026/03/Membership-Apr-idea.jpg
END:VEVENT
BEGIN:VEVENT
DTSTART;TZID=America/Denver:20260409T174500
DTEND;TZID=America/Denver:20260409T193000
DTSTAMP:20260425T093853
CREATED:20260327T184521Z
LAST-MODIFIED:20260328T171421Z
UID:249137-1775756700-1775763000@lwvlaplata.org
SUMMARY:Understanding Human Trafficking in Southwest Colorado
DESCRIPTION:Please join the Laboratory to Combat Human Trafficking\, in collaboration with the League of Women Voters of La Plata County and the Fort Lewis College Sociology Club for a training on how human trafficking is impacting Colorado and our region.  We’ll cover the laws\, the local resources\, the root causes\, the intersectionality\, and the social and systemic inequalities that can lead to trafficking.  Tuesday\, April 9th at FLC’s Noble Hall #125.  Join us at 5:45 for refreshments.  The training will be from 6:00 – 7:30 pm.  Please see the flyer for registration information. \nYou will likely have to park in the Campus Court parking lot off of 8th Ave (the star on the map). That road can be accessed from either entrance of the campus (College Drive or 8th Ave).
URL:https://lwvlaplata.org/event/understanding-human-trafficking-in-southwest-colorado/
LOCATION:FLC Noble Hall\, Room #125\, Noble Hall\, 100 Rim Drive\, Durango\, CO\, 81301\, United States
CATEGORIES:Community Event
ATTACH;FMTTYPE=image/jpeg:https://lwvlaplata.org/wp-content/uploads/2026/03/658979193_122275781708070561_1182004701348829423_n.jpg
ORGANIZER;CN="Laboratory to Combat Human Trafficking (LCHY)":MAILTO:PeaceOnThePlanet@gmail.com
END:VEVENT
BEGIN:VEVENT
DTSTART;TZID=America/Denver:20260418T100000
DTEND;TZID=America/Denver:20260418T100000
DTSTAMP:20260425T093853
CREATED:20260328T172026Z
LAST-MODIFIED:20260328T173608Z
UID:249152-1776506400-1776506400@lwvlaplata.org
SUMMARY:Earth Day Celebration
DESCRIPTION:4/18 – Earth Day Parade and tabling \nJoin the League in the parade at 9:30 by the train station (dress as your favorite species)\, then check out our booth at Buckley! \nlook for Wendy and the LWV banner and march down Main Street to Buckley Park dressed as your favorite living creature (plant\, animal\, ???)  The March begins promptly at 10:30\, so be on time to show your support for our planet.
URL:https://lwvlaplata.org/event/earth-day-celebration/
LOCATION:CO
CATEGORIES:Community Event
ATTACH;FMTTYPE=image/jpeg:https://lwvlaplata.org/wp-content/uploads/2026/03/IMG_4429.jpg
END:VEVENT
BEGIN:VEVENT
DTSTART;TZID=America/Denver:20260420T103000
DTEND;TZID=America/Denver:20260420T233000
DTSTAMP:20260425T093853
CREATED:20260211T222340Z
LAST-MODIFIED:20260211T222340Z
UID:249094-1776681000-1776727800@lwvlaplata.org
SUMMARY:Book Club
DESCRIPTION:April 20 – 1984 by George Orwell. This is a classic that many have not read for some time. It was published in 1949. \n \nThe LWV La Plata Book Club meets the third Monday of every month at 10:30 at Durango Joes on College. \n\nAll are welcome to attend to check us out\, but we ask that you join the League if you want to keep coming.\nPlease park on the side streets.
URL:https://lwvlaplata.org/event/book-club-5/
LOCATION:Durango Joes on College\, 732 E College Dr\, Durango\, CO\, 81301\, United States
END:VEVENT
BEGIN:VEVENT
DTSTART;TZID=America/Denver:20260421T180000
DTEND;TZID=America/Denver:20260421T200000
DTSTAMP:20260425T093853
CREATED:20260328T171829Z
LAST-MODIFIED:20260328T173116Z
UID:249150-1776794400-1776801600@lwvlaplata.org
SUMMARY:Tiffany Lee:  Your Vote is Your Super Power
DESCRIPTION:
URL:https://lwvlaplata.org/event/tiffany-lee-your-vote-is-your-super-power/
LOCATION:Durango Public Library\, 1900 E 3rd Ave\, Durango\, CO\, 81301\, United States
ATTACH;FMTTYPE=image/jpeg:https://lwvlaplata.org/wp-content/uploads/2026/03/April-21-Poster2.jpg
END:VEVENT
BEGIN:VEVENT
DTSTART;TZID=America/Denver:20260518T103000
DTEND;TZID=America/Denver:20260518T113000
DTSTAMP:20260425T093853
CREATED:20260211T222026Z
LAST-MODIFIED:20260211T222026Z
UID:249091-1779100200-1779103800@lwvlaplata.org
SUMMARY:Book Club
DESCRIPTION:May 18 – The Nazi Mind: Twelve Warnings from History by Laurence Rees. The author uses psychological concepts to show how the Nazi leaders and lay people fell under the Nazi spell. \n \nThe LWV La Plata Book Club meets the third Monday of every month at 10:30 at Durango Joes on College. \n\nAll are welcome to attend to check us out\, but we ask that you join the League if you want to keep coming.\nPlease park on the side streets.
URL:https://lwvlaplata.org/event/book-club-4/
LOCATION:Durango Joes on College\, 732 E College Dr\, Durango\, CO\, 81301\, United States
END:VEVENT
BEGIN:VEVENT
DTSTART;TZID=America/Denver:20260615T103000
DTEND;TZID=America/Denver:20260615T113000
DTSTAMP:20260425T093853
CREATED:20260211T222817Z
LAST-MODIFIED:20260211T222817Z
UID:249096-1781519400-1781523000@lwvlaplata.org
SUMMARY:Book Club
DESCRIPTION:June 15 – Looking for Jane by Heather Marshall. This historical fiction is about three women connected with an underground abortion network in Canada. \n \nThe LWV La Plata Book Club meets the third Monday of every month at 10:30 at Durango Joes on College. \n\nAll are welcome to attend to check us out\, but we ask that you join the League if you want to keep coming.\nPlease park on the side streets.
URL:https://lwvlaplata.org/event/book-club-6/
LOCATION:Durango Joes on College\, 732 E College Dr\, Durango\, CO\, 81301\, United States
END:VEVENT
END:VCALENDAR