BEGIN:VCALENDAR
VERSION:2.0
PRODID:-//League of Women Voters - ECPv6.15.20//NONSGML v1.0//EN
CALSCALE:GREGORIAN
METHOD:PUBLISH
X-WR-CALNAME:League of Women Voters
X-ORIGINAL-URL:https://lwvlaplata.org
X-WR-CALDESC:Events for League of Women Voters
REFRESH-INTERVAL;VALUE=DURATION:PT1H
X-Robots-Tag:noindex
X-PUBLISHED-TTL:PT1H
BEGIN:VTIMEZONE
TZID:America/Denver
BEGIN:DAYLIGHT
TZOFFSETFROM:-0700
TZOFFSETTO:-0600
TZNAME:MDT
DTSTART:20240310T090000
END:DAYLIGHT
BEGIN:STANDARD
TZOFFSETFROM:-0600
TZOFFSETTO:-0700
TZNAME:MST
DTSTART:20241103T080000
END:STANDARD
BEGIN:DAYLIGHT
TZOFFSETFROM:-0700
TZOFFSETTO:-0600
TZNAME:MDT
DTSTART:20250309T090000
END:DAYLIGHT
BEGIN:STANDARD
TZOFFSETFROM:-0600
TZOFFSETTO:-0700
TZNAME:MST
DTSTART:20251102T080000
END:STANDARD
BEGIN:DAYLIGHT
TZOFFSETFROM:-0700
TZOFFSETTO:-0600
TZNAME:MDT
DTSTART:20260308T090000
END:DAYLIGHT
BEGIN:STANDARD
TZOFFSETFROM:-0600
TZOFFSETTO:-0700
TZNAME:MST
DTSTART:20261101T080000
END:STANDARD
END:VTIMEZONE
BEGIN:VEVENT
DTSTART;TZID=America/Denver:20251120T173000
DTEND;TZID=America/Denver:20251120T193000
DTSTAMP:20260425T081805
CREATED:20251115T213629Z
LAST-MODIFIED:20251115T214138Z
UID:248936-1763659800-1763667000@lwvlaplata.org
SUMMARY:Vision 2076
DESCRIPTION:The League of Women Voters of La Plata County is hosting Vision 2076 on Thursday\, November 20 at 5:30 pm at the LPEA community room. \nThis is not your typical community meeting. Instead\, you’ll participate in: \n\n\n\nCreative activities with art supplies and hands-on projects\nSmall group conversations with neighbors from across Durango\nFacilitated visioning exercises about Colorado’s future\nDelicious food and refreshments\n\n\n\nWhy participate? Your input will contribute to Vision 2076\, a statewide initiative gathering voices from communities across Colorado. We’ll publish a public document identifying our shared values as Coloradans and creating a roadmap for the future we want to build together. \nWho should come? Anyone who cares about Colorado’s future! No artistic experience or special knowledge required—just bring your curiosity and imagination. \nEvent Details: \n\nDate: Thursday\, November 20\, 2025\nTime: 5:30 – 7:30 pm\nLocation: LPEA 45 Stewart St. Durango\, CO 81303\nCost: Free! Food and all materials provided\nRSVP: https://tinyurl.com/35mh383n\n\nWe hope you’ll join us for this unique opportunity to help shape Colorado’s next 50 years. Feel free to bring friends\, family\, or neighbors—the more voices\, the better our vision will be. \nLooking forward to imagining the future together!
URL:https://lwvlaplata.org/event/vision-2076/
LOCATION:CO
CATEGORIES:Community Event
ATTACH;FMTTYPE=image/png:https://lwvlaplata.org/wp-content/uploads/2025/11/vision-2076.png
END:VEVENT
BEGIN:VEVENT
DTSTART;TZID=America/Denver:20251107T170000
DTEND;TZID=America/Denver:20251107T193000
DTSTAMP:20260425T081805
CREATED:20251103T123828Z
LAST-MODIFIED:20251103T123828Z
UID:248900-1762534800-1762543800@lwvlaplata.org
SUMMARY:Unhoused in Durango
DESCRIPTION:Meet Your Fellow Community Members Who Live Outside\n\n\n\nThe League of Women Voters of La Plata County is inviting you to a community-wide D.E.I event. \n\n\n\nFriday\, November 7th at the VFW 4031 (1550 Main Ave in Durango\, (970) 247-0384) In the Lower Hall\, which now has a wheelchair ramp! \n\n\n\nJoin us at 5:00 for a forum where several of our unhoused community members (Veterans\, disabled\,\nLGBTQ+\, etc.\,) will get a chance to tell their story and be heard. The panelists will then take audience questions\, facilitated by a moderator. Get a new perspective and put a face to your homeless neighbor\, friend\, or co-worker \n\n\n\nAt 6:30 we will wrap up the presentation and join each other for a harvest season grateful potluck dinner. Please stay to join us\, and bring a dish – main\, side\, dessert or beverages to share\, and/in a disposable container so the panelists can take the leftovers. \nWe hope you’ll take this opportunity to get to know your neighbors and share with folks who live outside in Durango.
URL:https://lwvlaplata.org/event/unhoused-in-durango/
LOCATION:VFW Hall\, 1550 Main Ave\, Durango\, CO\, 81301\, United States
CATEGORIES:Community Event
END:VEVENT
BEGIN:VEVENT
DTSTART;TZID=America/Denver:20251028T133000
DTEND;TZID=America/Denver:20251028T150000
DTSTAMP:20260425T081805
CREATED:20250925T212511Z
LAST-MODIFIED:20250925T212557Z
UID:248510-1761658200-1761663600@lwvlaplata.org
SUMMARY:Colorado’s 2025 Ballot Issues for the November 4th\, 2025 Election (10/28/25)
DESCRIPTION:Join Siggy Palmer and Martha Mason from LWV-LP for a discussion of the ballot measures that will be on the November ballot\, to be mailed out next month. We will explain the questions and examine the pros and cons of each\, excluding the county-wide school board elections. \nWe’ll cover the State of Colorado\, La Plata County\, and City of Durango\, so people can decide how they want to vote. \nThis event is open to the public! \nWhere: Durango/La Plata County Senior Center\, 2424 Main Ave in Durango\, (970) 382-6445 \nWhen: Tuesday\, October 28th\, 2025 at 1:30 PM \nNo registration required. \nAlso see https://www.vote411.org/ \nNo registration required
URL:https://lwvlaplata.org/event/colorados-2025-ballot-issues-for-the-november-4th-2025-election-10-28-25/
LOCATION:Durango/La Plata County Senior Center\, 2424 Main Ave in Durango\, Durango\, CO\, 81301\, United States
END:VEVENT
BEGIN:VEVENT
DTSTART;TZID=America/Denver:20251018T140000
DTEND;TZID=America/Denver:20251018T160000
DTSTAMP:20260425T081805
CREATED:20251017T152704Z
LAST-MODIFIED:20251017T152704Z
UID:248703-1760796000-1760803200@lwvlaplata.org
SUMMARY:No Kings March @ Rotary Park
DESCRIPTION:
URL:https://lwvlaplata.org/event/no-kings-march-rotary-park/
LOCATION:CO
END:VEVENT
BEGIN:VEVENT
DTSTART;TZID=America/Denver:20251012T153000
DTEND;TZID=America/Denver:20251012T171500
DTSTAMP:20260425T081805
CREATED:20250922T155233Z
LAST-MODIFIED:20250922T171224Z
UID:248469-1760283000-1760289300@lwvlaplata.org
SUMMARY:School Board Candidates Forum
DESCRIPTION:Join the League of Women Voters at the VFW Hall\, 1550 Main Ave on Oct 12th from 3:30-5:15pm to meet this year’s candidates.\nA recording of the event will be available afterwards at www.lwvlaplata.org \nQuestions can be submitted by 5pm Oct 9th to lwvlaplata@gmail.com or in-person at the forum.
URL:https://lwvlaplata.org/event/school-board-candidates-forum/
LOCATION:VFW Hall\, 1550 Main Ave\, Durango\, CO\, 81301\, United States
CATEGORIES:Candidate Forum
END:VEVENT
BEGIN:VEVENT
DTSTART;TZID=America/Denver:20251004T150000
DTEND;TZID=America/Denver:20251004T170000
DTSTAMP:20260425T081805
CREATED:20250907T191157Z
LAST-MODIFIED:20250930T191320Z
UID:248445-1759590000-1759597200@lwvlaplata.org
SUMMARY:Action is the Antidote for Anxiety - Annual Back to the League Meeting
DESCRIPTION:Feeling overwhelmed by today’s political climate? You’re not alone. The constant stream of troubling news can leave us paralyzed by anxiety\, anger\, and frustration. \nThe League of Women Voters of La Plata County invites you to transform your worry into meaningful change at our annual “Back to League” meeting. Instead of staying stuck in stress\, discover how you can make a real difference right here in our community as well as at the state and federal levels. \nWhat awaits you: \n\nExpert insights on four critical issues shaping our future:\nClear pathways to action tailored to your schedule and comfort level\nConnection with like-minded neighbors who refuse to stand on the sidelines\nPractical tools to channel your concerns into powerful community impactWhether you can spare 10 minutes a month or 10 hours a week\, there’s a way for you to help. Making phone calls\, signing petitions\, volunteering with nonprofits\, writing compelling letters to editors\, making donations — every action matters\, and every voice counts.\nYour anxiety has a purpose — it’s telling you something needs to change. Come learn how to be that change!\n\n\n\n\n\nTo learn about actions you can take\, visit lwvlaplata.org/league-advocacy-and-action \nCan’t attend in person? Watch the lives stream of the meeting on Zoom.
URL:https://lwvlaplata.org/event/annual-back-to-the-league-meeting/
LOCATION:Durango Public Library\, 1900 E 3rd Ave\, Durango\, CO\, 81301\, United States
CATEGORIES:Membership Meeting
END:VEVENT
BEGIN:VEVENT
DTSTART;TZID=America/Denver:20250610T170000
DTEND;TZID=America/Denver:20250610T193000
DTSTAMP:20260425T081805
CREATED:20251122T031834Z
LAST-MODIFIED:20251122T031834Z
UID:248963-1749574800-1749583800@lwvlaplata.org
SUMMARY:2025 Annual Meeting
DESCRIPTION:President Tara Kiene began the meeting introducing guest speaker Tami Graham\, Executive Director KSUT Radio to speak on\n “KSUT and all of public media is under threat. Will you step up?”\nThe importance of public media in the political system. She highlights that public media is crucial for democracy\, providing education\, information\, and entertainment\, especially in rural communities. Graham emphasizes that access to public media correlates with increased political knowledge and civic engagement while reducing extremist views. She also discusses the history of the Public Broadcasting Act of 1967\, which established a national system of nonprofit public service television and radio\, and the creation of the Corporation for Public Broadcasting.
URL:https://lwvlaplata.org/event/2025-annual-meeting/
LOCATION:CO
CATEGORIES:Membership Meeting
END:VEVENT
END:VCALENDAR