BEGIN:VCALENDAR
VERSION:2.0
PRODID:-//League of Women Voters - ECPv6.15.20//NONSGML v1.0//EN
CALSCALE:GREGORIAN
METHOD:PUBLISH
X-WR-CALNAME:League of Women Voters
X-ORIGINAL-URL:https://lwvlaplata.org
X-WR-CALDESC:Events for League of Women Voters
REFRESH-INTERVAL;VALUE=DURATION:PT1H
X-Robots-Tag:noindex
X-PUBLISHED-TTL:PT1H
BEGIN:VTIMEZONE
TZID:America/Denver
BEGIN:DAYLIGHT
TZOFFSETFROM:-0700
TZOFFSETTO:-0600
TZNAME:MDT
DTSTART:20240310T090000
END:DAYLIGHT
BEGIN:STANDARD
TZOFFSETFROM:-0600
TZOFFSETTO:-0700
TZNAME:MST
DTSTART:20241103T080000
END:STANDARD
BEGIN:DAYLIGHT
TZOFFSETFROM:-0700
TZOFFSETTO:-0600
TZNAME:MDT
DTSTART:20250309T090000
END:DAYLIGHT
BEGIN:STANDARD
TZOFFSETFROM:-0600
TZOFFSETTO:-0700
TZNAME:MST
DTSTART:20251102T080000
END:STANDARD
BEGIN:DAYLIGHT
TZOFFSETFROM:-0700
TZOFFSETTO:-0600
TZNAME:MDT
DTSTART:20260308T090000
END:DAYLIGHT
BEGIN:STANDARD
TZOFFSETFROM:-0600
TZOFFSETTO:-0700
TZNAME:MST
DTSTART:20261101T080000
END:STANDARD
END:VTIMEZONE
BEGIN:VEVENT
DTSTART;TZID=America/Denver:20251004T150000
DTEND;TZID=America/Denver:20251004T170000
DTSTAMP:20260424T200527
CREATED:20250907T191157Z
LAST-MODIFIED:20250930T191320Z
UID:248445-1759590000-1759597200@lwvlaplata.org
SUMMARY:Action is the Antidote for Anxiety - Annual Back to the League Meeting
DESCRIPTION:Feeling overwhelmed by today’s political climate? You’re not alone. The constant stream of troubling news can leave us paralyzed by anxiety\, anger\, and frustration. \nThe League of Women Voters of La Plata County invites you to transform your worry into meaningful change at our annual “Back to League” meeting. Instead of staying stuck in stress\, discover how you can make a real difference right here in our community as well as at the state and federal levels. \nWhat awaits you: \n\nExpert insights on four critical issues shaping our future:\nClear pathways to action tailored to your schedule and comfort level\nConnection with like-minded neighbors who refuse to stand on the sidelines\nPractical tools to channel your concerns into powerful community impactWhether you can spare 10 minutes a month or 10 hours a week\, there’s a way for you to help. Making phone calls\, signing petitions\, volunteering with nonprofits\, writing compelling letters to editors\, making donations — every action matters\, and every voice counts.\nYour anxiety has a purpose — it’s telling you something needs to change. Come learn how to be that change!\n\n\n\n\n\nTo learn about actions you can take\, visit lwvlaplata.org/league-advocacy-and-action \nCan’t attend in person? Watch the lives stream of the meeting on Zoom.
URL:https://lwvlaplata.org/event/annual-back-to-the-league-meeting/
LOCATION:Durango Public Library\, 1900 E 3rd Ave\, Durango\, CO\, 81301\, United States
CATEGORIES:Membership Meeting
END:VEVENT
END:VCALENDAR